BEGIN:VCALENDAR
VERSION:2.0
PRODID:-//The Georgia Trust - ECPv6.15.20//NONSGML v1.0//EN
CALSCALE:GREGORIAN
METHOD:PUBLISH
X-WR-CALNAME:The Georgia Trust
X-ORIGINAL-URL:https://www.georgiatrust.org
X-WR-CALDESC:Events for The Georgia Trust
REFRESH-INTERVAL;VALUE=DURATION:PT1H
X-Robots-Tag:noindex
X-PUBLISHED-TTL:PT1H
BEGIN:VTIMEZONE
TZID:America/New_York
BEGIN:DAYLIGHT
TZOFFSETFROM:-0500
TZOFFSETTO:-0400
TZNAME:EDT
DTSTART:20240310T070000
END:DAYLIGHT
BEGIN:STANDARD
TZOFFSETFROM:-0400
TZOFFSETTO:-0500
TZNAME:EST
DTSTART:20241103T060000
END:STANDARD
BEGIN:DAYLIGHT
TZOFFSETFROM:-0500
TZOFFSETTO:-0400
TZNAME:EDT
DTSTART:20250309T070000
END:DAYLIGHT
BEGIN:STANDARD
TZOFFSETFROM:-0400
TZOFFSETTO:-0500
TZNAME:EST
DTSTART:20251102T060000
END:STANDARD
BEGIN:DAYLIGHT
TZOFFSETFROM:-0500
TZOFFSETTO:-0400
TZNAME:EDT
DTSTART:20260308T070000
END:DAYLIGHT
BEGIN:STANDARD
TZOFFSETFROM:-0400
TZOFFSETTO:-0500
TZNAME:EST
DTSTART:20261101T060000
END:STANDARD
END:VTIMEZONE
BEGIN:VEVENT
DTSTART;TZID=America/New_York:20251113T173000
DTEND;TZID=America/New_York:20251113T190000
DTSTAMP:20260419T091953
CREATED:20250814T132948Z
LAST-MODIFIED:20250814T132948Z
UID:10000349-1763055000-1763060400@www.georgiatrust.org
SUMMARY:Inherit GA: Wrecking Bar Brewpub Happy Hour and Tour
DESCRIPTION:Join Inherit Georgia for a guided tour and happy hour at the Wrecking Bar Brewpub located between Little Five Points and the historic Inman Park neighborhood in Atlanta. \nThe building housing the Wrecking Bar was built in the late 1800s by renowned architect Willis F. Denny for businessman Victor Hugo Kriegshaber\, a pivotal figure in Atlanta’s early 20th-century growth. In 2012\, it was awarded a Georgia Trust Preservation Award for Excellence in Rehabilitation.
URL:https://www.georgiatrust.org/event/inherit-ga-wrecking-bar-brewpub-happy-hour-and-tour/
LOCATION:Wrecking Bar Brewpub\, 292 Moreland Avenue NE\, Atlanta\, GA\, 30307\, United States
ATTACH;FMTTYPE=image/jpeg:https://www.georgiatrust.org/wp-content/uploads/Kriegshaber_House_Atlanta-1-scaled.jpg
ORGANIZER;CN="Brittany Darlington%2C The Georgia Trust":MAILTO:bdarlington@georgiatrust.org
END:VEVENT
END:VCALENDAR