BEGIN:VCALENDAR
VERSION:2.0
PRODID:-//The Georgia Trust - ECPv6.15.20//NONSGML v1.0//EN
CALSCALE:GREGORIAN
METHOD:PUBLISH
X-WR-CALNAME:The Georgia Trust
X-ORIGINAL-URL:https://www.georgiatrust.org
X-WR-CALDESC:Events for The Georgia Trust
REFRESH-INTERVAL;VALUE=DURATION:PT1H
X-Robots-Tag:noindex
X-PUBLISHED-TTL:PT1H
BEGIN:VTIMEZONE
TZID:America/New_York
BEGIN:DAYLIGHT
TZOFFSETFROM:-0500
TZOFFSETTO:-0400
TZNAME:EDT
DTSTART:20240310T070000
END:DAYLIGHT
BEGIN:STANDARD
TZOFFSETFROM:-0400
TZOFFSETTO:-0500
TZNAME:EST
DTSTART:20241103T060000
END:STANDARD
BEGIN:DAYLIGHT
TZOFFSETFROM:-0500
TZOFFSETTO:-0400
TZNAME:EDT
DTSTART:20250309T070000
END:DAYLIGHT
BEGIN:STANDARD
TZOFFSETFROM:-0400
TZOFFSETTO:-0500
TZNAME:EST
DTSTART:20251102T060000
END:STANDARD
BEGIN:DAYLIGHT
TZOFFSETFROM:-0500
TZOFFSETTO:-0400
TZNAME:EDT
DTSTART:20260308T070000
END:DAYLIGHT
BEGIN:STANDARD
TZOFFSETFROM:-0400
TZOFFSETTO:-0500
TZNAME:EST
DTSTART:20261101T060000
END:STANDARD
END:VTIMEZONE
BEGIN:VEVENT
DTSTART;VALUE=DATE:20251004
DTEND;VALUE=DATE:20251005
DTSTAMP:20260419T090405
CREATED:20250814T132000Z
LAST-MODIFIED:20250822T143719Z
UID:10000348-1759536000-1759622399@www.georgiatrust.org
SUMMARY:Inherit GA: History Hike at Sweetwater Creek State Park
DESCRIPTION:Join fellow young preservationists and Georgia Trust President & CEO Wright Mitchell for a ranger-led\, three-mile hike through the rolling landscape of Sweetwater Creek State Park\, where nature reclaims the remains of one of Georgia’s most fascinating historic sites.
URL:https://www.georgiatrust.org/event/inherit-ga-history-hike-at-sweetwater-creek-state-park/
LOCATION:Sweetwater Creek State Park\, 1750 Mount Vernon Road\, Lithia Springs\, GA\, 30122\, United States
ATTACH;FMTTYPE=image/jpeg:https://www.georgiatrust.org/wp-content/uploads/20160719_103447.jpg
ORGANIZER;CN="Brittany Darlington%2C The Georgia Trust":MAILTO:bdarlington@georgiatrust.org
END:VEVENT
END:VCALENDAR