BEGIN:VCALENDAR
VERSION:2.0
PRODID:-//The Georgia Trust - ECPv6.15.20//NONSGML v1.0//EN
CALSCALE:GREGORIAN
METHOD:PUBLISH
X-ORIGINAL-URL:https://www.georgiatrust.org
X-WR-CALDESC:Events for The Georgia Trust
REFRESH-INTERVAL;VALUE=DURATION:PT1H
X-Robots-Tag:noindex
X-PUBLISHED-TTL:PT1H
BEGIN:VTIMEZONE
TZID:America/New_York
BEGIN:DAYLIGHT
TZOFFSETFROM:-0500
TZOFFSETTO:-0400
TZNAME:EDT
DTSTART:20250309T070000
END:DAYLIGHT
BEGIN:STANDARD
TZOFFSETFROM:-0400
TZOFFSETTO:-0500
TZNAME:EST
DTSTART:20251102T060000
END:STANDARD
BEGIN:DAYLIGHT
TZOFFSETFROM:-0500
TZOFFSETTO:-0400
TZNAME:EDT
DTSTART:20260308T070000
END:DAYLIGHT
BEGIN:STANDARD
TZOFFSETFROM:-0400
TZOFFSETTO:-0500
TZNAME:EST
DTSTART:20261101T060000
END:STANDARD
BEGIN:DAYLIGHT
TZOFFSETFROM:-0500
TZOFFSETTO:-0400
TZNAME:EDT
DTSTART:20270314T070000
END:DAYLIGHT
BEGIN:STANDARD
TZOFFSETFROM:-0400
TZOFFSETTO:-0500
TZNAME:EST
DTSTART:20271107T060000
END:STANDARD
END:VTIMEZONE
BEGIN:VEVENT
DTSTART;VALUE=DATE:20260424
DTEND;VALUE=DATE:20260427
DTSTAMP:20260424T112240
CREATED:20251112T191615Z
LAST-MODIFIED:20251112T192758Z
UID:10000363-1776988800-1777247999@www.georgiatrust.org
SUMMARY:Spring Ramble 2026
DESCRIPTION:Discover the rich architectural legacy of Marietta and Smyrna while touring the area’s most historic private homes\, lush gardens\, and landmark sites — each one a reflection of the region’s enduring prosperity and charm.
URL:https://www.georgiatrust.org/event/spring-ramble-2026/
LOCATION:Marietta
ATTACH;FMTTYPE=image/jpeg:https://www.georgiatrust.org/wp-content/uploads/FullSizeRender--scaled.jpg
ORGANIZER;CN="Brittany Darlington%2C The Georgia Trust":MAILTO:bdarlington@georgiatrust.org
END:VEVENT
END:VCALENDAR