BEGIN:VCALENDAR
VERSION:2.0
PRODID:-//The Georgia Trust - ECPv6.15.20//NONSGML v1.0//EN
CALSCALE:GREGORIAN
METHOD:PUBLISH
X-ORIGINAL-URL:https://www.georgiatrust.org
X-WR-CALDESC:Events for The Georgia Trust
REFRESH-INTERVAL;VALUE=DURATION:PT1H
X-Robots-Tag:noindex
X-PUBLISHED-TTL:PT1H
BEGIN:VTIMEZONE
TZID:America/New_York
BEGIN:DAYLIGHT
TZOFFSETFROM:-0500
TZOFFSETTO:-0400
TZNAME:EDT
DTSTART:20250309T070000
END:DAYLIGHT
BEGIN:STANDARD
TZOFFSETFROM:-0400
TZOFFSETTO:-0500
TZNAME:EST
DTSTART:20251102T060000
END:STANDARD
BEGIN:DAYLIGHT
TZOFFSETFROM:-0500
TZOFFSETTO:-0400
TZNAME:EDT
DTSTART:20260308T070000
END:DAYLIGHT
BEGIN:STANDARD
TZOFFSETFROM:-0400
TZOFFSETTO:-0500
TZNAME:EST
DTSTART:20261101T060000
END:STANDARD
BEGIN:DAYLIGHT
TZOFFSETFROM:-0500
TZOFFSETTO:-0400
TZNAME:EDT
DTSTART:20270314T070000
END:DAYLIGHT
BEGIN:STANDARD
TZOFFSETFROM:-0400
TZOFFSETTO:-0500
TZNAME:EST
DTSTART:20271107T060000
END:STANDARD
END:VTIMEZONE
BEGIN:VEVENT
DTSTART;VALUE=DATE:20260424
DTEND;VALUE=DATE:20260427
DTSTAMP:20260423T232433
CREATED:20251112T191615Z
LAST-MODIFIED:20251112T192758Z
UID:10000363-1776988800-1777247999@www.georgiatrust.org
SUMMARY:Spring Ramble 2026
DESCRIPTION:Discover the rich architectural legacy of Marietta and Smyrna while touring the area’s most historic private homes\, lush gardens\, and landmark sites — each one a reflection of the region’s enduring prosperity and charm.
URL:https://www.georgiatrust.org/event/spring-ramble-2026/
LOCATION:Marietta
ATTACH;FMTTYPE=image/jpeg:https://www.georgiatrust.org/wp-content/uploads/FullSizeRender--scaled.jpg
ORGANIZER;CN="Brittany Darlington%2C The Georgia Trust":MAILTO:bdarlington@georgiatrust.org
END:VEVENT
BEGIN:VEVENT
DTSTART;TZID=America/New_York:20260514T180000
DTEND;TZID=America/New_York:20260514T200000
DTSTAMP:20260423T232433
CREATED:20260421T160327Z
LAST-MODIFIED:20260421T160511Z
UID:10000389-1778781600-1778788800@www.georgiatrust.org
SUMMARY:Inherit Georgia South Downtown Walking Tour & Hard Hat Tour of Rich’s Building
DESCRIPTION:Students and young professionals\, 45 and under\, are invited to join us to see the ongoing revitalization of Atlanta’s Whitehall Shopping District and surrounding streets\, followed by a hard hat tour of the 1882 Rich’s building.
URL:https://www.georgiatrust.org/event/inherit-georgia-south-downtown-walking-tour-hard-hat-tour-of-richs-building/
ATTACH;FMTTYPE=image/heic:https://www.georgiatrust.org/wp-content/uploads/Amy-170-Mitchell-1.jpg
ORGANIZER;CN="Brittany Darlington%2C The Georgia Trust":MAILTO:bdarlington@georgiatrust.org
END:VEVENT
BEGIN:VEVENT
DTSTART;TZID=America/New_York:20260605T083000
DTEND;TZID=America/New_York:20260605T180000
DTSTAMP:20260423T232433
CREATED:20260421T155610Z
LAST-MODIFIED:20260421T155610Z
UID:10000388-1780648200-1780682400@www.georgiatrust.org
SUMMARY:On the Road to Revolution: A Georgia Trust Field Trip
DESCRIPTION:Join The Georgia Trust as we trace Georgia’s path to independence on this one-day field trip through some of the state’s most compelling Revolutionary-era sites. Departing from Rhodes Hall at 8:30 a.m. via charter bus\, this carefully curated journey blends expert-led tours\, scenic travel\, and meaningful connections to Georgia’s past.
URL:https://www.georgiatrust.org/event/on-the-road-to-revolution-a-georgia-trust-field-trip/
ATTACH;FMTTYPE=image/jpeg:https://www.georgiatrust.org/wp-content/uploads/3_McDuffie-Co_Historic-Rock-House_CREDIT-Connor-Franklin-Leland-scaled.jpg
ORGANIZER;CN="Brittany Darlington%2C The Georgia Trust":MAILTO:bdarlington@georgiatrust.org
END:VEVENT
BEGIN:VEVENT
DTSTART;VALUE=DATE:20261019
DTEND;VALUE=DATE:20261023
DTSTAMP:20260423T232433
CREATED:20260216T170800Z
LAST-MODIFIED:20260216T170800Z
UID:10000380-1792368000-1792713599@www.georgiatrust.org
SUMMARY:Founding Fathers Study Tour
DESCRIPTION:In celebration of America’s 250th birthday\, join The Georgia Trust for Historic Preservation in Virginia for an immersive four-day journey through the places\, landscapes\, and legacies that shaped our nation. This exclusive Founding Fathers Study Tour is thoughtfully curated and professionally managed by The Georgia Trust staff\, offering rare access\, expert interpretation\, and seamless coordination throughout the experience. Guests will enjoy carefully designed programming that blends history\, hospitality and fellowship at America’s most iconic colonial Revolutionary War-era sites.
URL:https://www.georgiatrust.org/event/founding-fathers-study-tour/
ATTACH;FMTTYPE=image/jpeg:https://www.georgiatrust.org/wp-content/uploads/monticello.jpg
ORGANIZER;CN="Brittany Darlington%2C The Georgia Trust":MAILTO:bdarlington@georgiatrust.org
END:VEVENT
END:VCALENDAR